BEGIN:VCALENDAR
VERSION:2.0
PRODID:-//www.ins.ch//NONSGML kigkonsult.se iCalcreator 2.22//
CALSCALE:GREGORIAN
METHOD:PUBLISH
X-WR-TIMEZONE:Europe/Berlin
BEGIN:VEVENT
UID:20260420T002007CEST-5315MPTLUv@www.ins.ch
DTSTAMP:20260419T222007Z
DESCRIPTION:Klicken Sie auf den folgenden Link\, um weitere Informationen z
 ur Veranstaltung zu erhalten:\nhttp://www.ins.ch/de/veranstaltungen/detail
 /detail.php?i=2086
DTSTART:20260603T140000
DTEND:20260603T170000
LOCATION:Alterszentrum Ins
SUMMARY:Offener Seniorentreff
END:VEVENT
END:VCALENDAR
