BEGIN:VCALENDAR
VERSION:2.0
PRODID:-//www.ins.ch//NONSGML kigkonsult.se iCalcreator 2.22//
CALSCALE:GREGORIAN
METHOD:PUBLISH
X-WR-TIMEZONE:Europe/Berlin
BEGIN:VEVENT
UID:20260419T225239CEST-8373ALSvRl@www.ins.ch
DTSTAMP:20260419T205239Z
DESCRIPTION:Klicken Sie auf den folgenden Link\, um weitere Informationen z
 ur Veranstaltung zu erhalten:\nhttp://www.ins.ch/de/veranstaltungen/detail
 /detail.php?i=1653
DTSTART:20240117T170000
DTEND:20240117T213000
LOCATION:Mehrzweckhalle Rebstockweg
SUMMARY:Informationsanlass Neubau Oberstufenzentrum Ins
END:VEVENT
END:VCALENDAR
