BEGIN:VCALENDAR
VERSION:2.0
PRODID:-//www.ins.ch//NONSGML kigkonsult.se iCalcreator 2.22//
CALSCALE:GREGORIAN
METHOD:PUBLISH
X-WR-TIMEZONE:Europe/Berlin
BEGIN:VEVENT
UID:20260419T225518CEST-1991X2ZScU@www.ins.ch
DTSTAMP:20260419T205518Z
DESCRIPTION:Klicken Sie auf den folgenden Link\, um weitere Informationen z
 ur Veranstaltung zu erhalten:\nhttp://www.ins.ch/de/veranstaltungen/detail
 /detail.php?i=1649
DTSTART:20240113T083000
DTEND:20240113T170000
LOCATION:Ev.-ref. Kirchgemeindehaus Täuffelen
SUMMARY:WABE (Wachen und Begleiten) Seeland-West
END:VEVENT
END:VCALENDAR
